BEGIN:VCALENDAR
VERSION:2.0
PRODID:-//The Community Band - ECPv6.15.18//NONSGML v1.0//EN
CALSCALE:GREGORIAN
METHOD:PUBLISH
X-WR-CALNAME:The Community Band
X-ORIGINAL-URL:https://thecommunityband.org
X-WR-CALDESC:Events for The Community Band
REFRESH-INTERVAL;VALUE=DURATION:PT1H
X-Robots-Tag:noindex
X-PUBLISHED-TTL:PT1H
BEGIN:VTIMEZONE
TZID:America/New_York
BEGIN:DAYLIGHT
TZOFFSETFROM:-0500
TZOFFSETTO:-0400
TZNAME:EDT
DTSTART:20240310T070000
END:DAYLIGHT
BEGIN:STANDARD
TZOFFSETFROM:-0400
TZOFFSETTO:-0500
TZNAME:EST
DTSTART:20241103T060000
END:STANDARD
BEGIN:DAYLIGHT
TZOFFSETFROM:-0500
TZOFFSETTO:-0400
TZNAME:EDT
DTSTART:20250309T070000
END:DAYLIGHT
BEGIN:STANDARD
TZOFFSETFROM:-0400
TZOFFSETTO:-0500
TZNAME:EST
DTSTART:20251102T060000
END:STANDARD
BEGIN:DAYLIGHT
TZOFFSETFROM:-0500
TZOFFSETTO:-0400
TZNAME:EDT
DTSTART:20260308T070000
END:DAYLIGHT
BEGIN:STANDARD
TZOFFSETFROM:-0400
TZOFFSETTO:-0500
TZNAME:EST
DTSTART:20261101T060000
END:STANDARD
END:VTIMEZONE
BEGIN:VEVENT
DTSTART;TZID=America/New_York:20251129T190000
DTEND;TZID=America/New_York:20251129T200000
DTSTAMP:20260421T051521
CREATED:20250817T211542Z
LAST-MODIFIED:20251103T131931Z
UID:1546-1764442800-1764446400@thecommunityband.org
SUMMARY:Middletown St. Peter's Kierch Tree Lighting
DESCRIPTION:Be there by 7pm\, or carpool and shuttle from the CHURCH (121 N. Spring St.) 6pm
URL:https://thecommunityband.org/event/middletown-st-peters-kierch-tree-lighting-2/
LOCATION:St. Peter’s Kierch\, N. Union St. and West High St.\, Middletown\, PA\, 17057
CATEGORIES:Performance
END:VEVENT
END:VCALENDAR