BEGIN:VCALENDAR
VERSION:2.0
PRODID:-//The Community Band - ECPv6.15.18//NONSGML v1.0//EN
CALSCALE:GREGORIAN
METHOD:PUBLISH
X-WR-CALNAME:The Community Band
X-ORIGINAL-URL:https://thecommunityband.org
X-WR-CALDESC:Events for The Community Band
REFRESH-INTERVAL;VALUE=DURATION:PT1H
X-Robots-Tag:noindex
X-PUBLISHED-TTL:PT1H
BEGIN:VTIMEZONE
TZID:America/New_York
BEGIN:DAYLIGHT
TZOFFSETFROM:-0500
TZOFFSETTO:-0400
TZNAME:EDT
DTSTART:20240310T070000
END:DAYLIGHT
BEGIN:STANDARD
TZOFFSETFROM:-0400
TZOFFSETTO:-0500
TZNAME:EST
DTSTART:20241103T060000
END:STANDARD
BEGIN:DAYLIGHT
TZOFFSETFROM:-0500
TZOFFSETTO:-0400
TZNAME:EDT
DTSTART:20250309T070000
END:DAYLIGHT
BEGIN:STANDARD
TZOFFSETFROM:-0400
TZOFFSETTO:-0500
TZNAME:EST
DTSTART:20251102T060000
END:STANDARD
BEGIN:DAYLIGHT
TZOFFSETFROM:-0500
TZOFFSETTO:-0400
TZNAME:EDT
DTSTART:20260308T070000
END:DAYLIGHT
BEGIN:STANDARD
TZOFFSETFROM:-0400
TZOFFSETTO:-0500
TZNAME:EST
DTSTART:20261101T060000
END:STANDARD
END:VTIMEZONE
BEGIN:VEVENT
DTSTART;TZID=America/New_York:20251205T170000
DTEND;TZID=America/New_York:20251205T183000
DTSTAMP:20260421T002302
CREATED:20250817T212030Z
LAST-MODIFIED:20251103T132054Z
UID:1551-1764954000-1764959400@thecommunityband.org
SUMMARY:Lower Swatara Lion's Club Tree Lighting
DESCRIPTION:Report time 5pm (or whenever you can get there). Tree lighting 6pm.
URL:https://thecommunityband.org/event/lower-swatara-lions-club-tree-lighting-2/
LOCATION:Lower Swatara Lion’s Club\, 2 Theodore Avenue\, Middletown\, PA
CATEGORIES:Performance
END:VEVENT
BEGIN:VEVENT
DTSTART;TZID=America/New_York:20251206T173000
DTEND;TZID=America/New_York:20251206T183000
DTSTAMP:20260421T002302
CREATED:20250817T211742Z
LAST-MODIFIED:20251103T132227Z
UID:1548-1765042200-1765045800@thecommunityband.org
SUMMARY:Highspire Tree Lighting
DESCRIPTION:Meet at former Citizen’s Bank (Second and Broad St.) at 5:30pm. Tree lighting 6pm. Mama’s Pizza afterward\, 646 Second St.
URL:https://thecommunityband.org/event/highspire-tree-lighting-3/
LOCATION:former Citizen’s Bank parking lot\, 218 Second St\, Highspire\, PA
CATEGORIES:Performance
END:VEVENT
BEGIN:VEVENT
DTSTART;TZID=America/New_York:20251214T150000
DTEND;TZID=America/New_York:20251214T160000
DTSTAMP:20260421T002302
CREATED:20250817T211324Z
LAST-MODIFIED:20251103T202758Z
UID:1544-1765724400-1765728000@thecommunityband.org
SUMMARY:Friends & Family Third Annual Holiday Concert
DESCRIPTION:Report at 2pm. Concert at 3pm.
URL:https://thecommunityband.org/event/friends-family-third-annual-holiday-concert/
LOCATION:St. Peter’s Evangelical Lutheran Church – Middletown\, 121 N. Spring St.\, Middletown\, PA\, 17057
CATEGORIES:Performance
ATTACH;FMTTYPE=image/webp:https://thecommunityband.org/wp-content/uploads/2025/08/2025-friends-and-family-flyer-scaled.webp
END:VEVENT
END:VCALENDAR