BEGIN:VCALENDAR
VERSION:2.0
PRODID:-//The Community Band - ECPv6.15.18//NONSGML v1.0//EN
CALSCALE:GREGORIAN
METHOD:PUBLISH
X-ORIGINAL-URL:https://thecommunityband.org
X-WR-CALDESC:Events for The Community Band
REFRESH-INTERVAL;VALUE=DURATION:PT1H
X-Robots-Tag:noindex
X-PUBLISHED-TTL:PT1H
BEGIN:VTIMEZONE
TZID:America/New_York
BEGIN:DAYLIGHT
TZOFFSETFROM:-0500
TZOFFSETTO:-0400
TZNAME:EDT
DTSTART:20220313T070000
END:DAYLIGHT
BEGIN:STANDARD
TZOFFSETFROM:-0400
TZOFFSETTO:-0500
TZNAME:EST
DTSTART:20221106T060000
END:STANDARD
BEGIN:DAYLIGHT
TZOFFSETFROM:-0500
TZOFFSETTO:-0400
TZNAME:EDT
DTSTART:20230312T070000
END:DAYLIGHT
BEGIN:STANDARD
TZOFFSETFROM:-0400
TZOFFSETTO:-0500
TZNAME:EST
DTSTART:20231105T060000
END:STANDARD
BEGIN:DAYLIGHT
TZOFFSETFROM:-0500
TZOFFSETTO:-0400
TZNAME:EDT
DTSTART:20240310T070000
END:DAYLIGHT
BEGIN:STANDARD
TZOFFSETFROM:-0400
TZOFFSETTO:-0500
TZNAME:EST
DTSTART:20241103T060000
END:STANDARD
BEGIN:DAYLIGHT
TZOFFSETFROM:-0500
TZOFFSETTO:-0400
TZNAME:EDT
DTSTART:20250309T070000
END:DAYLIGHT
BEGIN:STANDARD
TZOFFSETFROM:-0400
TZOFFSETTO:-0500
TZNAME:EST
DTSTART:20251102T060000
END:STANDARD
END:VTIMEZONE
BEGIN:VEVENT
DTSTART;VALUE=DATE:20240908
DTEND;VALUE=DATE:20240909
DTSTAMP:20260420T122522
CREATED:20240702T185343Z
LAST-MODIFIED:20240826T174336Z
UID:1249-1725753600-1725839999@thecommunityband.org
SUMMARY:Concert: St. Peter's Middletown
DESCRIPTION:Performance at St Peter’s church in Middletown. Concert to begin at 1pm. Report time 12:45pm. \nMembers\, please bring a stand!
URL:https://thecommunityband.org/event/st-peters-middletown-concert/
LOCATION:St. Peter’s Evangelical Lutheran Church – Middletown\, 121 N. Spring St.\, Middletown\, PA\, 17057
CATEGORIES:Performance
END:VEVENT
BEGIN:VEVENT
DTSTART;TZID=America/New_York:20240527T110000
DTEND;TZID=America/New_York:20240527T110000
DTSTAMP:20260420T122522
CREATED:20240407T233819Z
LAST-MODIFIED:20240407T233841Z
UID:1240-1716807600-1716807600@thecommunityband.org
SUMMARY:Memorial Day
DESCRIPTION:Meet at Memorial Park at 11am. Ceremony begins at 12pm.
URL:https://thecommunityband.org/event/memorial-day-2/
LOCATION:Memorial Park\, Lumber St.\, Highspire\, PA\, United States
CATEGORIES:Performance
END:VEVENT
BEGIN:VEVENT
DTSTART;TZID=America/New_York:20240427T110000
DTEND;TZID=America/New_York:20240427T110000
DTSTAMP:20260420T122522
CREATED:20240407T233647Z
LAST-MODIFIED:20240407T233718Z
UID:1235-1714215600-1714215600@thecommunityband.org
SUMMARY:Arbor Day
DESCRIPTION:Meet at Memorial Park at 11. Ceremony begins at 11:30. Tony’s Pizza after ceremony.
URL:https://thecommunityband.org/event/arbor-day/
LOCATION:Memorial Park\, Lumber St.\, Highspire\, PA\, United States
CATEGORIES:Performance
END:VEVENT
BEGIN:VEVENT
DTSTART;TZID=America/New_York:20231217T150000
DTEND;TZID=America/New_York:20231217T160000
DTSTAMP:20260420T122522
CREATED:20231203T233016Z
LAST-MODIFIED:20231203T233109Z
UID:1228-1702825200-1702828800@thecommunityband.org
SUMMARY:Friends and Family Holiday Concert
DESCRIPTION:Invite your family and friends to this informal concert at our rehearsal location. We’ll be performing some holiday selections and will even be taking audience requests from our repertoire list!
URL:https://thecommunityband.org/event/friends-and-family-holiday-concert/
LOCATION:Swatara Township Municipal Building\, 599 Eisenhower Boulevard\, Harrisburg\, PA\, 17111
CATEGORIES:Performance
END:VEVENT
BEGIN:VEVENT
DTSTART;TZID=America/New_York:20231205T173000
DTEND;TZID=America/New_York:20231205T183000
DTSTAMP:20260420T122522
CREATED:20231005T172905Z
LAST-MODIFIED:20231107T001526Z
UID:1187-1701797400-1701801000@thecommunityband.org
SUMMARY:Swatara Township Tree Lighting
DESCRIPTION:Meet at Swatara Township Municipal Building at 5:30pm. Tree lighting ceremony begins at 6pm.
URL:https://thecommunityband.org/event/tree-lighting/
LOCATION:Swatara Township Municipal Building\, 599 Eisenhower Boulevard\, Harrisburg\, PA\, 17111
CATEGORIES:Performance
END:VEVENT
BEGIN:VEVENT
DTSTART;TZID=America/New_York:20231202T173000
DTEND;TZID=America/New_York:20231202T183000
DTSTAMP:20260420T122522
CREATED:20231107T002032Z
LAST-MODIFIED:20231107T002032Z
UID:1203-1701538200-1701541800@thecommunityband.org
SUMMARY:Highspire Tree Lighting
DESCRIPTION:Meet at St. Peter’s Church (Broad St.) at 5:30pm. Tree lighting ceremony begins at 6pm.
URL:https://thecommunityband.org/event/highspire-tree-lighting/
LOCATION:St. Peter’s Lutheran Church – Highspire\, 240 Broad St.\, Highspire\, PA\, United States
CATEGORIES:Performance
END:VEVENT
BEGIN:VEVENT
DTSTART;TZID=America/New_York:20230529T110000
DTEND;TZID=America/New_York:20230529T110000
DTSTAMP:20260420T122522
CREATED:20230405T234431Z
LAST-MODIFIED:20230429T232539Z
UID:1006-1685358000-1685358000@thecommunityband.org
SUMMARY:Memorial Day
DESCRIPTION:Meet at Highspire Fire House at 11:00. \nEvent starts at 12pm at Memorial Park. (Will be held in the fire house in case of rain.)
URL:https://thecommunityband.org/event/memorial-day/
LOCATION:Highspire Fire House\, 282 2nd St.\, Highspire\, PA\, 17034\, United States
CATEGORIES:Performance
END:VEVENT
END:VCALENDAR