BEGIN:VCALENDAR
VERSION:2.0
PRODID:-//The Community Band - ECPv6.15.18//NONSGML v1.0//EN
CALSCALE:GREGORIAN
METHOD:PUBLISH
X-ORIGINAL-URL:https://thecommunityband.org
X-WR-CALDESC:Events for The Community Band
REFRESH-INTERVAL;VALUE=DURATION:PT1H
X-Robots-Tag:noindex
X-PUBLISHED-TTL:PT1H
BEGIN:VTIMEZONE
TZID:America/New_York
BEGIN:DAYLIGHT
TZOFFSETFROM:-0500
TZOFFSETTO:-0400
TZNAME:EDT
DTSTART:20230312T070000
END:DAYLIGHT
BEGIN:STANDARD
TZOFFSETFROM:-0400
TZOFFSETTO:-0500
TZNAME:EST
DTSTART:20231105T060000
END:STANDARD
BEGIN:DAYLIGHT
TZOFFSETFROM:-0500
TZOFFSETTO:-0400
TZNAME:EDT
DTSTART:20240310T070000
END:DAYLIGHT
BEGIN:STANDARD
TZOFFSETFROM:-0400
TZOFFSETTO:-0500
TZNAME:EST
DTSTART:20241103T060000
END:STANDARD
BEGIN:DAYLIGHT
TZOFFSETFROM:-0500
TZOFFSETTO:-0400
TZNAME:EDT
DTSTART:20250309T070000
END:DAYLIGHT
BEGIN:STANDARD
TZOFFSETFROM:-0400
TZOFFSETTO:-0500
TZNAME:EST
DTSTART:20251102T060000
END:STANDARD
BEGIN:DAYLIGHT
TZOFFSETFROM:-0500
TZOFFSETTO:-0400
TZNAME:EDT
DTSTART:20260308T070000
END:DAYLIGHT
BEGIN:STANDARD
TZOFFSETFROM:-0400
TZOFFSETTO:-0500
TZNAME:EST
DTSTART:20261101T060000
END:STANDARD
BEGIN:DAYLIGHT
TZOFFSETFROM:-0500
TZOFFSETTO:-0400
TZNAME:EDT
DTSTART:20270314T070000
END:DAYLIGHT
BEGIN:STANDARD
TZOFFSETFROM:-0400
TZOFFSETTO:-0500
TZNAME:EST
DTSTART:20271107T060000
END:STANDARD
END:VTIMEZONE
BEGIN:VEVENT
DTSTART;TZID=America/New_York:20260419T140000
DTEND;TZID=America/New_York:20260419T160000
DTSTAMP:20260420T151900
CREATED:20251103T133129Z
LAST-MODIFIED:20260415T163015Z
UID:1646-1776607200-1776614400@thecommunityband.org
SUMMARY:Practice - moved to High School Cafeteria
DESCRIPTION:This rehearsal will be in the High School Cafeteria. Enter at the back door\, right side of the white trailer.
URL:https://thecommunityband.org/event/practice-65/
LOCATION:Steelton-Highspire High School Band Room\, 250 Reynders Ave.\, Steelton\, PA\, 17113
CATEGORIES:Practice
END:VEVENT
BEGIN:VEVENT
DTSTART;TZID=America/New_York:20260322T140000
DTEND;TZID=America/New_York:20260322T160000
DTSTAMP:20260420T151900
CREATED:20251103T132940Z
LAST-MODIFIED:20251103T133016Z
UID:1644-1774188000-1774195200@thecommunityband.org
SUMMARY:Practice
DESCRIPTION:
URL:https://thecommunityband.org/event/practice-64/
LOCATION:Steelton-Highspire High School Band Room\, 250 Reynders Ave.\, Steelton\, PA\, 17113
CATEGORIES:Practice
END:VEVENT
BEGIN:VEVENT
DTSTART;TZID=America/New_York:20260308T140000
DTEND;TZID=America/New_York:20260308T160000
DTSTAMP:20260420T151900
CREATED:20251103T132918Z
LAST-MODIFIED:20251103T132918Z
UID:1642-1772978400-1772985600@thecommunityband.org
SUMMARY:Practice
DESCRIPTION:
URL:https://thecommunityband.org/event/practice-63/
LOCATION:Steelton-Highspire High School Band Room\, 250 Reynders Ave.\, Steelton\, PA\, 17113
CATEGORIES:Practice
END:VEVENT
BEGIN:VEVENT
DTSTART;TZID=America/New_York:20260222T140000
DTEND;TZID=America/New_York:20260222T160000
DTSTAMP:20260420T151900
CREATED:20251103T132839Z
LAST-MODIFIED:20251103T132839Z
UID:1640-1771768800-1771776000@thecommunityband.org
SUMMARY:Practice
DESCRIPTION:
URL:https://thecommunityband.org/event/practice-62/
LOCATION:Steelton-Highspire High School Band Room\, 250 Reynders Ave.\, Steelton\, PA\, 17113
CATEGORIES:Practice
END:VEVENT
BEGIN:VEVENT
DTSTART;TZID=America/New_York:20260208T140000
DTEND;TZID=America/New_York:20260208T160000
DTSTAMP:20260420T151900
CREATED:20251103T132805Z
LAST-MODIFIED:20251103T132805Z
UID:1638-1770559200-1770566400@thecommunityband.org
SUMMARY:Practice
DESCRIPTION:
URL:https://thecommunityband.org/event/practice-61/
LOCATION:Steelton-Highspire High School Band Room\, 250 Reynders Ave.\, Steelton\, PA\, 17113
CATEGORIES:Practice
END:VEVENT
BEGIN:VEVENT
DTSTART;TZID=America/New_York:20260125T140000
DTEND;TZID=America/New_York:20260125T160000
DTSTAMP:20260420T151900
CREATED:20251103T132718Z
LAST-MODIFIED:20260125T130006Z
UID:1636-1769349600-1769356800@thecommunityband.org
SUMMARY:CANCELED: Practice
DESCRIPTION:
URL:https://thecommunityband.org/event/practice-60/
LOCATION:Steelton-Highspire High School Band Room\, 250 Reynders Ave.\, Steelton\, PA\, 17113
CATEGORIES:Practice
END:VEVENT
BEGIN:VEVENT
DTSTART;TZID=America/New_York:20260111T140000
DTEND;TZID=America/New_York:20260111T160000
DTSTAMP:20260420T151900
CREATED:20251103T132648Z
LAST-MODIFIED:20251103T132648Z
UID:1634-1768140000-1768147200@thecommunityband.org
SUMMARY:Practice
DESCRIPTION:
URL:https://thecommunityband.org/event/practice-59/
LOCATION:Steelton-Highspire High School Band Room\, 250 Reynders Ave.\, Steelton\, PA\, 17113
CATEGORIES:Practice
END:VEVENT
BEGIN:VEVENT
DTSTART;TZID=America/New_York:20251130T140000
DTEND;TZID=America/New_York:20251130T160000
DTSTAMP:20260420T151900
CREATED:20241004T134940Z
LAST-MODIFIED:20250825T011241Z
UID:1433-1764511200-1764518400@thecommunityband.org
SUMMARY:Practice
DESCRIPTION:
URL:https://thecommunityband.org/event/practice-58/
LOCATION:Steelton-Highspire High School Band Room\, 250 Reynders Ave.\, Steelton\, PA\, 17113
CATEGORIES:Practice
END:VEVENT
BEGIN:VEVENT
DTSTART;TZID=America/New_York:20251116T140000
DTEND;TZID=America/New_York:20251116T160000
DTSTAMP:20260420T151900
CREATED:20241004T134907Z
LAST-MODIFIED:20250825T011216Z
UID:1431-1763301600-1763308800@thecommunityband.org
SUMMARY:Practice
DESCRIPTION:
URL:https://thecommunityband.org/event/practice-57/
LOCATION:Steelton-Highspire High School Band Room\, 250 Reynders Ave.\, Steelton\, PA\, 17113
CATEGORIES:Practice
END:VEVENT
BEGIN:VEVENT
DTSTART;TZID=America/New_York:20251102T140000
DTEND;TZID=America/New_York:20251102T160000
DTSTAMP:20260420T151900
CREATED:20241004T141800Z
LAST-MODIFIED:20250825T011148Z
UID:1437-1762092000-1762099200@thecommunityband.org
SUMMARY:Practice
DESCRIPTION:
URL:https://thecommunityband.org/event/practice-55/
LOCATION:Steelton-Highspire High School Band Room\, 250 Reynders Ave.\, Steelton\, PA\, 17113
CATEGORIES:Practice
END:VEVENT
BEGIN:VEVENT
DTSTART;TZID=America/New_York:20251019T140000
DTEND;TZID=America/New_York:20251019T160000
DTSTAMP:20260420T151900
CREATED:20241004T134832Z
LAST-MODIFIED:20250825T011120Z
UID:1429-1760882400-1760889600@thecommunityband.org
SUMMARY:Practice
DESCRIPTION:
URL:https://thecommunityband.org/event/practice-56/
LOCATION:Steelton-Highspire High School Band Room\, 250 Reynders Ave.\, Steelton\, PA\, 17113
CATEGORIES:Practice
END:VEVENT
BEGIN:VEVENT
DTSTART;TZID=America/New_York:20250921T140000
DTEND;TZID=America/New_York:20250921T160000
DTSTAMP:20260420T151900
CREATED:20241004T134617Z
LAST-MODIFIED:20250825T010425Z
UID:1422-1758463200-1758470400@thecommunityband.org
SUMMARY:Practice
DESCRIPTION:
URL:https://thecommunityband.org/event/practice-53/
LOCATION:Steelton-Highspire High School Band Room\, 250 Reynders Ave.\, Steelton\, PA\, 17113
CATEGORIES:Practice
END:VEVENT
BEGIN:VEVENT
DTSTART;TZID=America/New_York:20250907T140000
DTEND;TZID=America/New_York:20250907T160000
DTSTAMP:20260420T151900
CREATED:20241004T134551Z
LAST-MODIFIED:20250825T010355Z
UID:1420-1757253600-1757260800@thecommunityband.org
SUMMARY:Practice
DESCRIPTION:
URL:https://thecommunityband.org/event/practice-52/
LOCATION:Steelton-Highspire High School Band Room\, 250 Reynders Ave.\, Steelton\, PA\, 17113
CATEGORIES:Practice
END:VEVENT
BEGIN:VEVENT
DTSTART;TZID=America/New_York:20250824T140000
DTEND;TZID=America/New_York:20250824T160000
DTSTAMP:20260420T151900
CREATED:20241004T134512Z
LAST-MODIFIED:20241004T134512Z
UID:1418-1756044000-1756051200@thecommunityband.org
SUMMARY:Practice
DESCRIPTION:
URL:https://thecommunityband.org/event/practice-51/
LOCATION:Swatara Township Municipal Building\, 599 Eisenhower Boulevard\, Harrisburg\, PA\, 17111
CATEGORIES:Practice
END:VEVENT
BEGIN:VEVENT
DTSTART;TZID=America/New_York:20250810T140000
DTEND;TZID=America/New_York:20250810T160000
DTSTAMP:20260420T151900
CREATED:20241004T134447Z
LAST-MODIFIED:20241004T134447Z
UID:1416-1754834400-1754841600@thecommunityband.org
SUMMARY:Practice
DESCRIPTION:
URL:https://thecommunityband.org/event/practice-50/
LOCATION:Swatara Township Municipal Building\, 599 Eisenhower Boulevard\, Harrisburg\, PA\, 17111
CATEGORIES:Practice
END:VEVENT
BEGIN:VEVENT
DTSTART;TZID=America/New_York:20250727T140000
DTEND;TZID=America/New_York:20250727T160000
DTSTAMP:20260420T151900
CREATED:20241004T134407Z
LAST-MODIFIED:20241004T134407Z
UID:1414-1753624800-1753632000@thecommunityband.org
SUMMARY:Practice
DESCRIPTION:
URL:https://thecommunityband.org/event/practice-49/
LOCATION:Swatara Township Municipal Building\, 599 Eisenhower Boulevard\, Harrisburg\, PA\, 17111
CATEGORIES:Practice
END:VEVENT
BEGIN:VEVENT
DTSTART;TZID=America/New_York:20250713T140000
DTEND;TZID=America/New_York:20250713T160000
DTSTAMP:20260420T151900
CREATED:20241004T134332Z
LAST-MODIFIED:20241004T134332Z
UID:1412-1752415200-1752422400@thecommunityband.org
SUMMARY:Practice
DESCRIPTION:
URL:https://thecommunityband.org/event/practice-48/
LOCATION:Swatara Township Municipal Building\, 599 Eisenhower Boulevard\, Harrisburg\, PA\, 17111
CATEGORIES:Practice
END:VEVENT
BEGIN:VEVENT
DTSTART;TZID=America/New_York:20250629T140000
DTEND;TZID=America/New_York:20250629T160000
DTSTAMP:20260420T151900
CREATED:20241004T134257Z
LAST-MODIFIED:20241004T134257Z
UID:1410-1751205600-1751212800@thecommunityband.org
SUMMARY:Practice
DESCRIPTION:
URL:https://thecommunityband.org/event/practice-47/
LOCATION:Swatara Township Municipal Building\, 599 Eisenhower Boulevard\, Harrisburg\, PA\, 17111
CATEGORIES:Practice
END:VEVENT
BEGIN:VEVENT
DTSTART;TZID=America/New_York:20250615T140000
DTEND;TZID=America/New_York:20250615T160000
DTSTAMP:20260420T151900
CREATED:20241004T134234Z
LAST-MODIFIED:20241004T134234Z
UID:1408-1749996000-1750003200@thecommunityband.org
SUMMARY:Practice
DESCRIPTION:
URL:https://thecommunityband.org/event/practice-46/
LOCATION:Swatara Township Municipal Building\, 599 Eisenhower Boulevard\, Harrisburg\, PA\, 17111
CATEGORIES:Practice
END:VEVENT
BEGIN:VEVENT
DTSTART;TZID=America/New_York:20250601T140000
DTEND;TZID=America/New_York:20250601T160000
DTSTAMP:20260420T151900
CREATED:20241004T134208Z
LAST-MODIFIED:20250323T233343Z
UID:1406-1748786400-1748793600@thecommunityband.org
SUMMARY:Practice
DESCRIPTION:
URL:https://thecommunityband.org/event/practice-45/
LOCATION:Swatara Township Municipal Building\, 599 Eisenhower Boulevard\, Harrisburg\, PA\, 17111
CATEGORIES:Practice
END:VEVENT
BEGIN:VEVENT
DTSTART;TZID=America/New_York:20250518T140000
DTEND;TZID=America/New_York:20250518T160000
DTSTAMP:20260420T151900
CREATED:20241004T134125Z
LAST-MODIFIED:20241004T134125Z
UID:1404-1747576800-1747584000@thecommunityband.org
SUMMARY:Practice
DESCRIPTION:
URL:https://thecommunityband.org/event/practice-44/
LOCATION:Swatara Township Municipal Building\, 599 Eisenhower Boulevard\, Harrisburg\, PA\, 17111
CATEGORIES:Practice
END:VEVENT
BEGIN:VEVENT
DTSTART;TZID=America/New_York:20250504T140000
DTEND;TZID=America/New_York:20250504T160000
DTSTAMP:20260420T151900
CREATED:20241004T134055Z
LAST-MODIFIED:20241004T134055Z
UID:1402-1746367200-1746374400@thecommunityband.org
SUMMARY:Practice
DESCRIPTION:
URL:https://thecommunityband.org/event/practice-43/
LOCATION:Swatara Township Municipal Building\, 599 Eisenhower Boulevard\, Harrisburg\, PA\, 17111
CATEGORIES:Practice
END:VEVENT
BEGIN:VEVENT
DTSTART;TZID=America/New_York:20250406T140000
DTEND;TZID=America/New_York:20250406T160000
DTSTAMP:20260420T151900
CREATED:20241004T133519Z
LAST-MODIFIED:20241004T133519Z
UID:1400-1743948000-1743955200@thecommunityband.org
SUMMARY:Practice
DESCRIPTION:
URL:https://thecommunityband.org/event/practice-42/
LOCATION:Swatara Township Municipal Building\, 599 Eisenhower Boulevard\, Harrisburg\, PA\, 17111
CATEGORIES:Practice
END:VEVENT
BEGIN:VEVENT
DTSTART;TZID=America/New_York:20250323T140000
DTEND;TZID=America/New_York:20250323T160000
DTSTAMP:20260420T151900
CREATED:20241004T133428Z
LAST-MODIFIED:20241004T133428Z
UID:1398-1742738400-1742745600@thecommunityband.org
SUMMARY:Practice
DESCRIPTION:
URL:https://thecommunityband.org/event/practice-41/
LOCATION:Swatara Township Municipal Building\, 599 Eisenhower Boulevard\, Harrisburg\, PA\, 17111
CATEGORIES:Practice
END:VEVENT
BEGIN:VEVENT
DTSTART;TZID=America/New_York:20250309T140000
DTEND;TZID=America/New_York:20250309T160000
DTSTAMP:20260420T151900
CREATED:20241004T133400Z
LAST-MODIFIED:20241004T133400Z
UID:1396-1741528800-1741536000@thecommunityband.org
SUMMARY:Practice
DESCRIPTION:
URL:https://thecommunityband.org/event/practice-40/
LOCATION:Swatara Township Municipal Building\, 599 Eisenhower Boulevard\, Harrisburg\, PA\, 17111
CATEGORIES:Practice
END:VEVENT
BEGIN:VEVENT
DTSTART;TZID=America/New_York:20250223T140000
DTEND;TZID=America/New_York:20250223T160000
DTSTAMP:20260420T151900
CREATED:20241004T133303Z
LAST-MODIFIED:20241004T133326Z
UID:1394-1740319200-1740326400@thecommunityband.org
SUMMARY:Practice
DESCRIPTION:
URL:https://thecommunityband.org/event/practice-39/
LOCATION:Swatara Township Municipal Building\, 599 Eisenhower Boulevard\, Harrisburg\, PA\, 17111
CATEGORIES:Practice
END:VEVENT
BEGIN:VEVENT
DTSTART;TZID=America/New_York:20250209T140000
DTEND;TZID=America/New_York:20250209T160000
DTSTAMP:20260420T151900
CREATED:20241004T133239Z
LAST-MODIFIED:20241004T133239Z
UID:1392-1739109600-1739116800@thecommunityband.org
SUMMARY:Practice
DESCRIPTION:
URL:https://thecommunityband.org/event/practice-38/
LOCATION:Swatara Township Municipal Building\, 599 Eisenhower Boulevard\, Harrisburg\, PA\, 17111
CATEGORIES:Practice
END:VEVENT
BEGIN:VEVENT
DTSTART;TZID=America/New_York:20250126T140000
DTEND;TZID=America/New_York:20250126T160000
DTSTAMP:20260420T151900
CREATED:20241004T133206Z
LAST-MODIFIED:20241004T133206Z
UID:1390-1737900000-1737907200@thecommunityband.org
SUMMARY:Practice
DESCRIPTION:
URL:https://thecommunityband.org/event/practice-37/
LOCATION:Swatara Township Municipal Building\, 599 Eisenhower Boulevard\, Harrisburg\, PA\, 17111
CATEGORIES:Practice
END:VEVENT
BEGIN:VEVENT
DTSTART;TZID=America/New_York:20250112T140000
DTEND;TZID=America/New_York:20250112T160000
DTSTAMP:20260420T151900
CREATED:20241004T133128Z
LAST-MODIFIED:20241004T133128Z
UID:1388-1736690400-1736697600@thecommunityband.org
SUMMARY:Practice
DESCRIPTION:
URL:https://thecommunityband.org/event/practice-36/
LOCATION:Swatara Township Municipal Building\, 599 Eisenhower Boulevard\, Harrisburg\, PA\, 17111
CATEGORIES:Practice
END:VEVENT
BEGIN:VEVENT
DTSTART;TZID=America/New_York:20241215T140000
DTEND;TZID=America/New_York:20241215T150000
DTSTAMP:20260420T151900
CREATED:20240702T215646Z
LAST-MODIFIED:20241004T132950Z
UID:1271-1734271200-1734274800@thecommunityband.org
SUMMARY:Practice
DESCRIPTION:
URL:https://thecommunityband.org/event/practice-35/
LOCATION:Swatara Township Municipal Building\, 599 Eisenhower Boulevard\, Harrisburg\, PA\, 17111
CATEGORIES:Practice
END:VEVENT
END:VCALENDAR