BEGIN:VCALENDAR
VERSION:2.0
PRODID:-//The Community Band - ECPv6.15.18//NONSGML v1.0//EN
CALSCALE:GREGORIAN
METHOD:PUBLISH
X-WR-CALNAME:The Community Band
X-ORIGINAL-URL:https://thecommunityband.org
X-WR-CALDESC:Events for The Community Band
REFRESH-INTERVAL;VALUE=DURATION:PT1H
X-Robots-Tag:noindex
X-PUBLISHED-TTL:PT1H
BEGIN:VTIMEZONE
TZID:America/New_York
BEGIN:DAYLIGHT
TZOFFSETFROM:-0500
TZOFFSETTO:-0400
TZNAME:EDT
DTSTART:20240310T070000
END:DAYLIGHT
BEGIN:STANDARD
TZOFFSETFROM:-0400
TZOFFSETTO:-0500
TZNAME:EST
DTSTART:20241103T060000
END:STANDARD
BEGIN:DAYLIGHT
TZOFFSETFROM:-0500
TZOFFSETTO:-0400
TZNAME:EDT
DTSTART:20250309T070000
END:DAYLIGHT
BEGIN:STANDARD
TZOFFSETFROM:-0400
TZOFFSETTO:-0500
TZNAME:EST
DTSTART:20251102T060000
END:STANDARD
BEGIN:DAYLIGHT
TZOFFSETFROM:-0500
TZOFFSETTO:-0400
TZNAME:EDT
DTSTART:20260308T070000
END:DAYLIGHT
BEGIN:STANDARD
TZOFFSETFROM:-0400
TZOFFSETTO:-0500
TZNAME:EST
DTSTART:20261101T060000
END:STANDARD
BEGIN:DAYLIGHT
TZOFFSETFROM:-0500
TZOFFSETTO:-0400
TZNAME:EDT
DTSTART:20270314T070000
END:DAYLIGHT
BEGIN:STANDARD
TZOFFSETFROM:-0400
TZOFFSETTO:-0500
TZNAME:EST
DTSTART:20271107T060000
END:STANDARD
END:VTIMEZONE
BEGIN:VEVENT
DTSTART;TZID=America/New_York:20251019T140000
DTEND;TZID=America/New_York:20251019T160000
DTSTAMP:20260423T035507
CREATED:20241004T134832Z
LAST-MODIFIED:20250825T011120Z
UID:1429-1760882400-1760889600@thecommunityband.org
SUMMARY:Practice
DESCRIPTION:
URL:https://thecommunityband.org/event/practice-56/
LOCATION:Steelton-Highspire High School Band Room\, 250 Reynders Ave.\, Steelton\, PA\, 17113
CATEGORIES:Practice
END:VEVENT
BEGIN:VEVENT
DTSTART;TZID=America/New_York:20251102T140000
DTEND;TZID=America/New_York:20251102T160000
DTSTAMP:20260423T035507
CREATED:20241004T141800Z
LAST-MODIFIED:20250825T011148Z
UID:1437-1762092000-1762099200@thecommunityband.org
SUMMARY:Practice
DESCRIPTION:
URL:https://thecommunityband.org/event/practice-55/
LOCATION:Steelton-Highspire High School Band Room\, 250 Reynders Ave.\, Steelton\, PA\, 17113
CATEGORIES:Practice
END:VEVENT
BEGIN:VEVENT
DTSTART;TZID=America/New_York:20251116T140000
DTEND;TZID=America/New_York:20251116T160000
DTSTAMP:20260423T035507
CREATED:20241004T134907Z
LAST-MODIFIED:20250825T011216Z
UID:1431-1763301600-1763308800@thecommunityband.org
SUMMARY:Practice
DESCRIPTION:
URL:https://thecommunityband.org/event/practice-57/
LOCATION:Steelton-Highspire High School Band Room\, 250 Reynders Ave.\, Steelton\, PA\, 17113
CATEGORIES:Practice
END:VEVENT
BEGIN:VEVENT
DTSTART;TZID=America/New_York:20251130T140000
DTEND;TZID=America/New_York:20251130T160000
DTSTAMP:20260423T035507
CREATED:20241004T134940Z
LAST-MODIFIED:20250825T011241Z
UID:1433-1764511200-1764518400@thecommunityband.org
SUMMARY:Practice
DESCRIPTION:
URL:https://thecommunityband.org/event/practice-58/
LOCATION:Steelton-Highspire High School Band Room\, 250 Reynders Ave.\, Steelton\, PA\, 17113
CATEGORIES:Practice
END:VEVENT
BEGIN:VEVENT
DTSTART;TZID=America/New_York:20260111T140000
DTEND;TZID=America/New_York:20260111T160000
DTSTAMP:20260423T035507
CREATED:20251103T132648Z
LAST-MODIFIED:20251103T132648Z
UID:1634-1768140000-1768147200@thecommunityband.org
SUMMARY:Practice
DESCRIPTION:
URL:https://thecommunityband.org/event/practice-59/
LOCATION:Steelton-Highspire High School Band Room\, 250 Reynders Ave.\, Steelton\, PA\, 17113
CATEGORIES:Practice
END:VEVENT
BEGIN:VEVENT
DTSTART;TZID=America/New_York:20260125T140000
DTEND;TZID=America/New_York:20260125T160000
DTSTAMP:20260423T035507
CREATED:20251103T132718Z
LAST-MODIFIED:20260125T130006Z
UID:1636-1769349600-1769356800@thecommunityband.org
SUMMARY:CANCELED: Practice
DESCRIPTION:
URL:https://thecommunityband.org/event/practice-60/
LOCATION:Steelton-Highspire High School Band Room\, 250 Reynders Ave.\, Steelton\, PA\, 17113
CATEGORIES:Practice
END:VEVENT
BEGIN:VEVENT
DTSTART;TZID=America/New_York:20260208T140000
DTEND;TZID=America/New_York:20260208T160000
DTSTAMP:20260423T035507
CREATED:20251103T132805Z
LAST-MODIFIED:20251103T132805Z
UID:1638-1770559200-1770566400@thecommunityband.org
SUMMARY:Practice
DESCRIPTION:
URL:https://thecommunityband.org/event/practice-61/
LOCATION:Steelton-Highspire High School Band Room\, 250 Reynders Ave.\, Steelton\, PA\, 17113
CATEGORIES:Practice
END:VEVENT
BEGIN:VEVENT
DTSTART;TZID=America/New_York:20260222T140000
DTEND;TZID=America/New_York:20260222T160000
DTSTAMP:20260423T035507
CREATED:20251103T132839Z
LAST-MODIFIED:20251103T132839Z
UID:1640-1771768800-1771776000@thecommunityband.org
SUMMARY:Practice
DESCRIPTION:
URL:https://thecommunityband.org/event/practice-62/
LOCATION:Steelton-Highspire High School Band Room\, 250 Reynders Ave.\, Steelton\, PA\, 17113
CATEGORIES:Practice
END:VEVENT
BEGIN:VEVENT
DTSTART;TZID=America/New_York:20260308T140000
DTEND;TZID=America/New_York:20260308T160000
DTSTAMP:20260423T035507
CREATED:20251103T132918Z
LAST-MODIFIED:20251103T132918Z
UID:1642-1772978400-1772985600@thecommunityband.org
SUMMARY:Practice
DESCRIPTION:
URL:https://thecommunityband.org/event/practice-63/
LOCATION:Steelton-Highspire High School Band Room\, 250 Reynders Ave.\, Steelton\, PA\, 17113
CATEGORIES:Practice
END:VEVENT
BEGIN:VEVENT
DTSTART;TZID=America/New_York:20260322T140000
DTEND;TZID=America/New_York:20260322T160000
DTSTAMP:20260423T035507
CREATED:20251103T132940Z
LAST-MODIFIED:20251103T133016Z
UID:1644-1774188000-1774195200@thecommunityband.org
SUMMARY:Practice
DESCRIPTION:
URL:https://thecommunityband.org/event/practice-64/
LOCATION:Steelton-Highspire High School Band Room\, 250 Reynders Ave.\, Steelton\, PA\, 17113
CATEGORIES:Practice
END:VEVENT
BEGIN:VEVENT
DTSTART;TZID=America/New_York:20260419T140000
DTEND;TZID=America/New_York:20260419T160000
DTSTAMP:20260423T035507
CREATED:20251103T133129Z
LAST-MODIFIED:20260415T163015Z
UID:1646-1776607200-1776614400@thecommunityband.org
SUMMARY:Practice - moved to High School Cafeteria
DESCRIPTION:This rehearsal will be in the High School Cafeteria. Enter at the back door\, right side of the white trailer.
URL:https://thecommunityband.org/event/practice-65/
LOCATION:Steelton-Highspire High School Band Room\, 250 Reynders Ave.\, Steelton\, PA\, 17113
CATEGORIES:Practice
END:VEVENT
BEGIN:VEVENT
DTSTART;TZID=America/New_York:20260503T140000
DTEND;TZID=America/New_York:20260503T160000
DTSTAMP:20260423T035507
CREATED:20251106T140200Z
LAST-MODIFIED:20251106T140200Z
UID:1656-1777816800-1777824000@thecommunityband.org
SUMMARY:Practice
DESCRIPTION:
URL:https://thecommunityband.org/event/practice-66/
LOCATION:Steelton-Highspire High School Band Room\, 250 Reynders Ave.\, Steelton\, PA\, 17113
CATEGORIES:Practice
END:VEVENT
BEGIN:VEVENT
DTSTART;TZID=America/New_York:20260517T140000
DTEND;TZID=America/New_York:20260517T160000
DTSTAMP:20260423T035507
CREATED:20251106T140253Z
LAST-MODIFIED:20251106T140253Z
UID:1658-1779026400-1779033600@thecommunityband.org
SUMMARY:Practice
DESCRIPTION:
URL:https://thecommunityband.org/event/practice-67/
LOCATION:Steelton-Highspire High School Band Room\, 250 Reynders Ave.\, Steelton\, PA\, 17113
CATEGORIES:Practice
END:VEVENT
BEGIN:VEVENT
DTSTART;TZID=America/New_York:20260531T140000
DTEND;TZID=America/New_York:20260531T160000
DTSTAMP:20260423T035507
CREATED:20251106T140504Z
LAST-MODIFIED:20251106T140504Z
UID:1662-1780236000-1780243200@thecommunityband.org
SUMMARY:Practice
DESCRIPTION:
URL:https://thecommunityband.org/event/practice-68/
LOCATION:Steelton-Highspire High School Band Room\, 250 Reynders Ave.\, Steelton\, PA\, 17113
CATEGORIES:Practice
END:VEVENT
BEGIN:VEVENT
DTSTART;TZID=America/New_York:20260628T140000
DTEND;TZID=America/New_York:20260628T160000
DTSTAMP:20260423T035507
CREATED:20251106T141303Z
LAST-MODIFIED:20251106T141303Z
UID:1666-1782655200-1782662400@thecommunityband.org
SUMMARY:Practice
DESCRIPTION:
URL:https://thecommunityband.org/event/practice-70/
LOCATION:Steelton-Highspire High School Band Room\, 250 Reynders Ave.\, Steelton\, PA\, 17113
CATEGORIES:Practice
END:VEVENT
BEGIN:VEVENT
DTSTART;TZID=America/New_York:20260712T140000
DTEND;TZID=America/New_York:20260712T160000
DTSTAMP:20260423T035507
CREATED:20251106T141549Z
LAST-MODIFIED:20251106T141549Z
UID:1668-1783864800-1783872000@thecommunityband.org
SUMMARY:Practice
DESCRIPTION:
URL:https://thecommunityband.org/event/practice-71/
LOCATION:Steelton-Highspire High School Band Room\, 250 Reynders Ave.\, Steelton\, PA\, 17113
CATEGORIES:Practice
END:VEVENT
BEGIN:VEVENT
DTSTART;TZID=America/New_York:20260726T140000
DTEND;TZID=America/New_York:20260726T160000
DTSTAMP:20260423T035507
CREATED:20251106T141630Z
LAST-MODIFIED:20251106T141651Z
UID:1670-1785074400-1785081600@thecommunityband.org
SUMMARY:Practice
DESCRIPTION:
URL:https://thecommunityband.org/event/practice-72/
LOCATION:Steelton-Highspire High School Band Room\, 250 Reynders Ave.\, Steelton\, PA\, 17113
CATEGORIES:Practice
END:VEVENT
BEGIN:VEVENT
DTSTART;TZID=America/New_York:20260809T140000
DTEND;TZID=America/New_York:20260809T160000
DTSTAMP:20260423T035507
CREATED:20251106T141739Z
LAST-MODIFIED:20251106T141739Z
UID:1672-1786284000-1786291200@thecommunityband.org
SUMMARY:Practice
DESCRIPTION:
URL:https://thecommunityband.org/event/practice-73/
LOCATION:Steelton-Highspire High School Band Room\, 250 Reynders Ave.\, Steelton\, PA\, 17113
CATEGORIES:Practice
END:VEVENT
BEGIN:VEVENT
DTSTART;TZID=America/New_York:20260823T140000
DTEND;TZID=America/New_York:20260823T160000
DTSTAMP:20260423T035507
CREATED:20251106T141827Z
LAST-MODIFIED:20251106T141827Z
UID:1674-1787493600-1787500800@thecommunityband.org
SUMMARY:Practice
DESCRIPTION:
URL:https://thecommunityband.org/event/practice-74/
LOCATION:Steelton-Highspire High School Band Room\, 250 Reynders Ave.\, Steelton\, PA\, 17113
CATEGORIES:Practice
END:VEVENT
BEGIN:VEVENT
DTSTART;TZID=America/New_York:20260906T140000
DTEND;TZID=America/New_York:20260906T160000
DTSTAMP:20260423T035507
CREATED:20251106T141909Z
LAST-MODIFIED:20251106T141909Z
UID:1676-1788703200-1788710400@thecommunityband.org
SUMMARY:Practice
DESCRIPTION:
URL:https://thecommunityband.org/event/practice-75/
LOCATION:Steelton-Highspire High School Band Room\, 250 Reynders Ave.\, Steelton\, PA\, 17113
CATEGORIES:Practice
END:VEVENT
BEGIN:VEVENT
DTSTART;TZID=America/New_York:20260920T140000
DTEND;TZID=America/New_York:20260920T160000
DTSTAMP:20260423T035507
CREATED:20251106T141940Z
LAST-MODIFIED:20251106T141940Z
UID:1678-1789912800-1789920000@thecommunityband.org
SUMMARY:Practice
DESCRIPTION:
URL:https://thecommunityband.org/event/practice-76/
LOCATION:Steelton-Highspire High School Band Room\, 250 Reynders Ave.\, Steelton\, PA\, 17113
CATEGORIES:Practice
END:VEVENT
BEGIN:VEVENT
DTSTART;TZID=America/New_York:20261004T140000
DTEND;TZID=America/New_York:20261004T160000
DTSTAMP:20260423T035507
CREATED:20251106T142026Z
LAST-MODIFIED:20251106T142026Z
UID:1680-1791122400-1791129600@thecommunityband.org
SUMMARY:Practice
DESCRIPTION:
URL:https://thecommunityband.org/event/practice-77/
LOCATION:Steelton-Highspire High School Band Room\, 250 Reynders Ave.\, Steelton\, PA\, 17113
CATEGORIES:Practice
END:VEVENT
BEGIN:VEVENT
DTSTART;TZID=America/New_York:20261018T140000
DTEND;TZID=America/New_York:20261018T160000
DTSTAMP:20260423T035507
CREATED:20251106T142250Z
LAST-MODIFIED:20251106T142250Z
UID:1684-1792332000-1792339200@thecommunityband.org
SUMMARY:Practice
DESCRIPTION:
URL:https://thecommunityband.org/event/practice-78/
LOCATION:Steelton-Highspire High School Band Room\, 250 Reynders Ave.\, Steelton\, PA\, 17113
CATEGORIES:Practice
END:VEVENT
BEGIN:VEVENT
DTSTART;TZID=America/New_York:20261101T140000
DTEND;TZID=America/New_York:20261101T160000
DTSTAMP:20260423T035507
CREATED:20251106T142339Z
LAST-MODIFIED:20251106T142339Z
UID:1686-1793541600-1793548800@thecommunityband.org
SUMMARY:Practice
DESCRIPTION:
URL:https://thecommunityband.org/event/practice-79/
LOCATION:Steelton-Highspire High School Band Room\, 250 Reynders Ave.\, Steelton\, PA\, 17113
CATEGORIES:Practice
END:VEVENT
BEGIN:VEVENT
DTSTART;TZID=America/New_York:20261115T140000
DTEND;TZID=America/New_York:20261115T160000
DTSTAMP:20260423T035507
CREATED:20251106T142405Z
LAST-MODIFIED:20251106T142405Z
UID:1688-1794751200-1794758400@thecommunityband.org
SUMMARY:Practice
DESCRIPTION:
URL:https://thecommunityband.org/event/practice-80/
LOCATION:Steelton-Highspire High School Band Room\, 250 Reynders Ave.\, Steelton\, PA\, 17113
CATEGORIES:Practice
END:VEVENT
BEGIN:VEVENT
DTSTART;TZID=America/New_York:20261129T140000
DTEND;TZID=America/New_York:20261129T160000
DTSTAMP:20260423T035507
CREATED:20251106T142511Z
LAST-MODIFIED:20251106T142511Z
UID:1692-1795960800-1795968000@thecommunityband.org
SUMMARY:Practice
DESCRIPTION:
URL:https://thecommunityband.org/event/practice-81/
LOCATION:Steelton-Highspire High School Band Room\, 250 Reynders Ave.\, Steelton\, PA\, 17113
CATEGORIES:Practice
END:VEVENT
END:VCALENDAR