BEGIN:VCALENDAR
VERSION:2.0
PRODID:-//The Community Band - ECPv6.15.18//NONSGML v1.0//EN
CALSCALE:GREGORIAN
METHOD:PUBLISH
X-ORIGINAL-URL:https://thecommunityband.org
X-WR-CALDESC:Events for The Community Band
REFRESH-INTERVAL;VALUE=DURATION:PT1H
X-Robots-Tag:noindex
X-PUBLISHED-TTL:PT1H
BEGIN:VTIMEZONE
TZID:America/New_York
BEGIN:DAYLIGHT
TZOFFSETFROM:-0500
TZOFFSETTO:-0400
TZNAME:EDT
DTSTART:20220313T070000
END:DAYLIGHT
BEGIN:STANDARD
TZOFFSETFROM:-0400
TZOFFSETTO:-0500
TZNAME:EST
DTSTART:20221106T060000
END:STANDARD
BEGIN:DAYLIGHT
TZOFFSETFROM:-0500
TZOFFSETTO:-0400
TZNAME:EDT
DTSTART:20230312T070000
END:DAYLIGHT
BEGIN:STANDARD
TZOFFSETFROM:-0400
TZOFFSETTO:-0500
TZNAME:EST
DTSTART:20231105T060000
END:STANDARD
BEGIN:DAYLIGHT
TZOFFSETFROM:-0500
TZOFFSETTO:-0400
TZNAME:EDT
DTSTART:20240310T070000
END:DAYLIGHT
BEGIN:STANDARD
TZOFFSETFROM:-0400
TZOFFSETTO:-0500
TZNAME:EST
DTSTART:20241103T060000
END:STANDARD
BEGIN:DAYLIGHT
TZOFFSETFROM:-0500
TZOFFSETTO:-0400
TZNAME:EDT
DTSTART:20250309T070000
END:DAYLIGHT
BEGIN:STANDARD
TZOFFSETFROM:-0400
TZOFFSETTO:-0500
TZNAME:EST
DTSTART:20251102T060000
END:STANDARD
END:VTIMEZONE
BEGIN:VEVENT
DTSTART;TZID=America/New_York:20240825T140000
DTEND;TZID=America/New_York:20240825T160000
DTSTAMP:20260421T040941
CREATED:20231130T202338Z
LAST-MODIFIED:20231130T202338Z
UID:1226-1724594400-1724601600@thecommunityband.org
SUMMARY:Practice
DESCRIPTION:
URL:https://thecommunityband.org/event/practice-28/
LOCATION:Swatara Township Municipal Building\, 599 Eisenhower Boulevard\, Harrisburg\, PA\, 17111
CATEGORIES:Practice
END:VEVENT
BEGIN:VEVENT
DTSTART;TZID=America/New_York:20240811T140000
DTEND;TZID=America/New_York:20240811T160000
DTSTAMP:20260421T040941
CREATED:20231130T202324Z
LAST-MODIFIED:20231130T202324Z
UID:1225-1723384800-1723392000@thecommunityband.org
SUMMARY:Practice
DESCRIPTION:
URL:https://thecommunityband.org/event/practice-27/
LOCATION:Swatara Township Municipal Building\, 599 Eisenhower Boulevard\, Harrisburg\, PA\, 17111
CATEGORIES:Practice
END:VEVENT
BEGIN:VEVENT
DTSTART;TZID=America/New_York:20240728T140000
DTEND;TZID=America/New_York:20240728T160000
DTSTAMP:20260421T040941
CREATED:20231130T202324Z
LAST-MODIFIED:20231130T202324Z
UID:1224-1722175200-1722182400@thecommunityband.org
SUMMARY:Practice
DESCRIPTION:
URL:https://thecommunityband.org/event/practice-26/
LOCATION:Swatara Township Municipal Building\, 599 Eisenhower Boulevard\, Harrisburg\, PA\, 17111
CATEGORIES:Practice
END:VEVENT
BEGIN:VEVENT
DTSTART;TZID=America/New_York:20240714T140000
DTEND;TZID=America/New_York:20240714T160000
DTSTAMP:20260421T040941
CREATED:20231130T202324Z
LAST-MODIFIED:20231130T202324Z
UID:1223-1720965600-1720972800@thecommunityband.org
SUMMARY:Practice
DESCRIPTION:
URL:https://thecommunityband.org/event/practice-25/
LOCATION:Swatara Township Municipal Building\, 599 Eisenhower Boulevard\, Harrisburg\, PA\, 17111
CATEGORIES:Practice
END:VEVENT
BEGIN:VEVENT
DTSTART;TZID=America/New_York:20240630T140000
DTEND;TZID=America/New_York:20240630T160000
DTSTAMP:20260421T040941
CREATED:20231130T202323Z
LAST-MODIFIED:20231130T202552Z
UID:1222-1719756000-1719763200@thecommunityband.org
SUMMARY:Practice
DESCRIPTION:
URL:https://thecommunityband.org/event/practice-24/
LOCATION:Swatara Township Municipal Building\, 599 Eisenhower Boulevard\, Harrisburg\, PA\, 17111
CATEGORIES:Practice
END:VEVENT
BEGIN:VEVENT
DTSTART;TZID=America/New_York:20240616T140000
DTEND;TZID=America/New_York:20240616T160000
DTSTAMP:20260421T040941
CREATED:20231130T202323Z
LAST-MODIFIED:20231130T202323Z
UID:1221-1718546400-1718553600@thecommunityband.org
SUMMARY:Practice
DESCRIPTION:
URL:https://thecommunityband.org/event/practice-23/
LOCATION:Swatara Township Municipal Building\, 599 Eisenhower Boulevard\, Harrisburg\, PA\, 17111
CATEGORIES:Practice
END:VEVENT
BEGIN:VEVENT
DTSTART;TZID=America/New_York:20240602T140000
DTEND;TZID=America/New_York:20240602T160000
DTSTAMP:20260421T040941
CREATED:20231130T202309Z
LAST-MODIFIED:20231130T202309Z
UID:1220-1717336800-1717344000@thecommunityband.org
SUMMARY:Practice
DESCRIPTION:
URL:https://thecommunityband.org/event/practice-22/
LOCATION:Swatara Township Municipal Building\, 599 Eisenhower Boulevard\, Harrisburg\, PA\, 17111
CATEGORIES:Practice
END:VEVENT
BEGIN:VEVENT
DTSTART;TZID=America/New_York:20240519T140000
DTEND;TZID=America/New_York:20240519T160000
DTSTAMP:20260421T040941
CREATED:20231130T202309Z
LAST-MODIFIED:20231130T202309Z
UID:1219-1716127200-1716134400@thecommunityband.org
SUMMARY:Practice
DESCRIPTION:
URL:https://thecommunityband.org/event/practice-21/
LOCATION:Swatara Township Municipal Building\, 599 Eisenhower Boulevard\, Harrisburg\, PA\, 17111
CATEGORIES:Practice
END:VEVENT
BEGIN:VEVENT
DTSTART;TZID=America/New_York:20240505T140000
DTEND;TZID=America/New_York:20240505T160000
DTSTAMP:20260421T040941
CREATED:20231130T202309Z
LAST-MODIFIED:20231130T202309Z
UID:1218-1714917600-1714924800@thecommunityband.org
SUMMARY:Practice
DESCRIPTION:
URL:https://thecommunityband.org/event/practice-20/
LOCATION:Swatara Township Municipal Building\, 599 Eisenhower Boulevard\, Harrisburg\, PA\, 17111
CATEGORIES:Practice
END:VEVENT
BEGIN:VEVENT
DTSTART;TZID=America/New_York:20240421T140000
DTEND;TZID=America/New_York:20240421T160000
DTSTAMP:20260421T040941
CREATED:20231130T202309Z
LAST-MODIFIED:20231130T202309Z
UID:1217-1713708000-1713715200@thecommunityband.org
SUMMARY:Practice
DESCRIPTION:
URL:https://thecommunityband.org/event/practice-19/
LOCATION:Swatara Township Municipal Building\, 599 Eisenhower Boulevard\, Harrisburg\, PA\, 17111
CATEGORIES:Practice
END:VEVENT
BEGIN:VEVENT
DTSTART;TZID=America/New_York:20240407T140000
DTEND;TZID=America/New_York:20240407T160000
DTSTAMP:20260421T040941
CREATED:20231130T202309Z
LAST-MODIFIED:20231130T202309Z
UID:1216-1712498400-1712505600@thecommunityband.org
SUMMARY:Practice
DESCRIPTION:
URL:https://thecommunityband.org/event/practice-18/
LOCATION:Swatara Township Municipal Building\, 599 Eisenhower Boulevard\, Harrisburg\, PA\, 17111
CATEGORIES:Practice
END:VEVENT
BEGIN:VEVENT
DTSTART;TZID=America/New_York:20240324T140000
DTEND;TZID=America/New_York:20240324T160000
DTSTAMP:20260421T040941
CREATED:20231130T202307Z
LAST-MODIFIED:20231130T202307Z
UID:1215-1711288800-1711296000@thecommunityband.org
SUMMARY:Practice
DESCRIPTION:
URL:https://thecommunityband.org/event/practice-17/
LOCATION:Swatara Township Municipal Building\, 599 Eisenhower Boulevard\, Harrisburg\, PA\, 17111
CATEGORIES:Practice
END:VEVENT
BEGIN:VEVENT
DTSTART;TZID=America/New_York:20240310T140000
DTEND;TZID=America/New_York:20240310T160000
DTSTAMP:20260421T040941
CREATED:20231130T202307Z
LAST-MODIFIED:20231130T202307Z
UID:1214-1710079200-1710086400@thecommunityband.org
SUMMARY:Practice
DESCRIPTION:
URL:https://thecommunityband.org/event/practice-16/
LOCATION:Swatara Township Municipal Building\, 599 Eisenhower Boulevard\, Harrisburg\, PA\, 17111
CATEGORIES:Practice
END:VEVENT
BEGIN:VEVENT
DTSTART;TZID=America/New_York:20240225T140000
DTEND;TZID=America/New_York:20240225T160000
DTSTAMP:20260421T040941
CREATED:20231130T202307Z
LAST-MODIFIED:20231130T202307Z
UID:1213-1708869600-1708876800@thecommunityband.org
SUMMARY:Practice
DESCRIPTION:
URL:https://thecommunityband.org/event/practice-15/
LOCATION:Swatara Township Municipal Building\, 599 Eisenhower Boulevard\, Harrisburg\, PA\, 17111
CATEGORIES:Practice
END:VEVENT
BEGIN:VEVENT
DTSTART;TZID=America/New_York:20240211T140000
DTEND;TZID=America/New_York:20240211T160000
DTSTAMP:20260421T040941
CREATED:20231130T202307Z
LAST-MODIFIED:20231130T202307Z
UID:1212-1707660000-1707667200@thecommunityband.org
SUMMARY:Practice
DESCRIPTION:
URL:https://thecommunityband.org/event/practice-14/
LOCATION:Swatara Township Municipal Building\, 599 Eisenhower Boulevard\, Harrisburg\, PA\, 17111
CATEGORIES:Practice
END:VEVENT
BEGIN:VEVENT
DTSTART;TZID=America/New_York:20240128T140000
DTEND;TZID=America/New_York:20240128T160000
DTSTAMP:20260421T040941
CREATED:20231130T202307Z
LAST-MODIFIED:20231130T202307Z
UID:1211-1706450400-1706457600@thecommunityband.org
SUMMARY:Practice
DESCRIPTION:
URL:https://thecommunityband.org/event/practice-13/
LOCATION:Swatara Township Municipal Building\, 599 Eisenhower Boulevard\, Harrisburg\, PA\, 17111
CATEGORIES:Practice
END:VEVENT
BEGIN:VEVENT
DTSTART;TZID=America/New_York:20240114T140000
DTEND;TZID=America/New_York:20240114T160000
DTSTAMP:20260421T040941
CREATED:20231130T200839Z
LAST-MODIFIED:20231130T200901Z
UID:1207-1705240800-1705248000@thecommunityband.org
SUMMARY:Practice
DESCRIPTION:
URL:https://thecommunityband.org/event/practice-12/
LOCATION:Swatara Township Municipal Building\, 599 Eisenhower Boulevard\, Harrisburg\, PA\, 17111
CATEGORIES:Practice
END:VEVENT
BEGIN:VEVENT
DTSTART;TZID=America/New_York:20231217T140000
DTEND;TZID=America/New_York:20231217T150000
DTSTAMP:20260421T040941
CREATED:20231005T172830Z
LAST-MODIFIED:20231203T233035Z
UID:1185-1702821600-1702825200@thecommunityband.org
SUMMARY:Practice
DESCRIPTION:
URL:https://thecommunityband.org/event/practice-11/
LOCATION:Swatara Township Municipal Building\, 599 Eisenhower Boulevard\, Harrisburg\, PA\, 17111
CATEGORIES:Practice
END:VEVENT
BEGIN:VEVENT
DTSTART;TZID=America/New_York:20231203T140000
DTEND;TZID=America/New_York:20231203T160000
DTSTAMP:20260421T040941
CREATED:20231005T172804Z
LAST-MODIFIED:20231005T172804Z
UID:1183-1701612000-1701619200@thecommunityband.org
SUMMARY:Practice
DESCRIPTION:
URL:https://thecommunityband.org/event/practice-10/
LOCATION:Swatara Township Municipal Building\, 599 Eisenhower Boulevard\, Harrisburg\, PA\, 17111
CATEGORIES:Practice
END:VEVENT
BEGIN:VEVENT
DTSTART;TZID=America/New_York:20231119T140000
DTEND;TZID=America/New_York:20231119T160000
DTSTAMP:20260421T040941
CREATED:20231005T172733Z
LAST-MODIFIED:20231005T172733Z
UID:1181-1700402400-1700409600@thecommunityband.org
SUMMARY:Practice
DESCRIPTION:
URL:https://thecommunityband.org/event/practice-9/
LOCATION:Swatara Township Municipal Building\, 599 Eisenhower Boulevard\, Harrisburg\, PA\, 17111
CATEGORIES:Practice
END:VEVENT
BEGIN:VEVENT
DTSTART;TZID=America/New_York:20231105T140000
DTEND;TZID=America/New_York:20231105T160000
DTSTAMP:20260421T040941
CREATED:20231005T172707Z
LAST-MODIFIED:20231005T172707Z
UID:1179-1699192800-1699200000@thecommunityband.org
SUMMARY:Practice
DESCRIPTION:
URL:https://thecommunityband.org/event/practice-8/
LOCATION:Swatara Township Municipal Building\, 599 Eisenhower Boulevard\, Harrisburg\, PA\, 17111
CATEGORIES:Practice
END:VEVENT
BEGIN:VEVENT
DTSTART;TZID=America/New_York:20231022T140000
DTEND;TZID=America/New_York:20231022T160000
DTSTAMP:20260421T040941
CREATED:20231005T172630Z
LAST-MODIFIED:20231005T174000Z
UID:1177-1697983200-1697990400@thecommunityband.org
SUMMARY:Practice
DESCRIPTION:
URL:https://thecommunityband.org/event/practice-7/
LOCATION:Swatara Township Municipal Building\, 599 Eisenhower Boulevard\, Harrisburg\, PA\, 17111
CATEGORIES:Practice
END:VEVENT
BEGIN:VEVENT
DTSTART;VALUE=DATE:20230820
DTEND;VALUE=DATE:20230821
DTSTAMP:20260421T040941
CREATED:20230429T231652Z
LAST-MODIFIED:20230806T221247Z
UID:1061-1692489600-1692575999@thecommunityband.org
SUMMARY:Practice - CANCELLED
DESCRIPTION:There will be no further practices at Steel-High. We’re in the process of trying to secure another location to practice – stay tuned!
URL:https://thecommunityband.org/event/practice-6/
LOCATION:PA
CATEGORIES:Practice
END:VEVENT
BEGIN:VEVENT
DTSTART;TZID=America/New_York:20230806T140000
DTEND;TZID=America/New_York:20230806T160000
DTSTAMP:20260421T040941
CREATED:20230429T231559Z
LAST-MODIFIED:20230803T171305Z
UID:1059-1691330400-1691337600@thecommunityband.org
SUMMARY:Practice - LAST PRACTICE AT STEEL-HIGH!
DESCRIPTION:
URL:https://thecommunityband.org/event/practice-5/
LOCATION:Steelton-Highspire Elementary School Band Room\, 250 Reynders St.\, Steelton\, PA\, 17113\, United States
CATEGORIES:Practice
ATTACH;FMTTYPE=image/jpeg:https://thecommunityband.org/wp-content/uploads/2023/04/band-room-1000.jpg
END:VEVENT
BEGIN:VEVENT
DTSTART;TZID=America/New_York:20230723T140000
DTEND;TZID=America/New_York:20230723T160000
DTSTAMP:20260421T040941
CREATED:20230405T234804Z
LAST-MODIFIED:20230429T231509Z
UID:1012-1690120800-1690128000@thecommunityband.org
SUMMARY:Practice
DESCRIPTION:
URL:https://thecommunityband.org/event/practice-4/
LOCATION:Steelton-Highspire Elementary School Band Room\, 250 Reynders St.\, Steelton\, PA\, 17113\, United States
CATEGORIES:Practice
END:VEVENT
BEGIN:VEVENT
DTSTART;TZID=America/New_York:20230709T140000
DTEND;TZID=America/New_York:20230709T160000
DTSTAMP:20260421T040941
CREATED:20230405T234553Z
LAST-MODIFIED:20230429T231446Z
UID:1010-1688911200-1688918400@thecommunityband.org
SUMMARY:Practice
DESCRIPTION:
URL:https://thecommunityband.org/event/practice-3/
LOCATION:Steelton-Highspire Elementary School Band Room\, 250 Reynders St.\, Steelton\, PA\, 17113\, United States
CATEGORIES:Practice
END:VEVENT
BEGIN:VEVENT
DTSTART;TZID=America/New_York:20230625T140000
DTEND;TZID=America/New_York:20230625T160000
DTSTAMP:20260421T040941
CREATED:20230405T234520Z
LAST-MODIFIED:20230429T231423Z
UID:1008-1687701600-1687708800@thecommunityband.org
SUMMARY:Practice
DESCRIPTION:
URL:https://thecommunityband.org/event/practice-2/
LOCATION:Steelton-Highspire Elementary School Band Room\, 250 Reynders St.\, Steelton\, PA\, 17113\, United States
CATEGORIES:Practice
END:VEVENT
BEGIN:VEVENT
DTSTART;TZID=America/New_York:20230611T140000
DTEND;TZID=America/New_York:20230611T160000
DTSTAMP:20260421T040941
CREATED:20230405T234305Z
LAST-MODIFIED:20230429T231343Z
UID:1004-1686492000-1686499200@thecommunityband.org
SUMMARY:Practice
DESCRIPTION:
URL:https://thecommunityband.org/event/practice/
LOCATION:Steelton-Highspire Elementary School Band Room\, 250 Reynders St.\, Steelton\, PA\, 17113\, United States
CATEGORIES:Practice
END:VEVENT
END:VCALENDAR